BEGIN:VCALENDAR
VERSION:2.0
PRODID:-//Jagd- und Naturschule Hessen - ECPv6.15.20//NONSGML v1.0//EN
CALSCALE:GREGORIAN
METHOD:PUBLISH
X-ORIGINAL-URL:https://jagdausbildung-hessen.de
X-WR-CALDESC:Veranstaltungen für Jagd- und Naturschule Hessen
REFRESH-INTERVAL;VALUE=DURATION:PT1H
X-Robots-Tag:noindex
X-PUBLISHED-TTL:PT1H
BEGIN:VTIMEZONE
TZID:Europe/Berlin
BEGIN:DAYLIGHT
TZOFFSETFROM:+0100
TZOFFSETTO:+0200
TZNAME:CEST
DTSTART:20250330T010000
END:DAYLIGHT
BEGIN:STANDARD
TZOFFSETFROM:+0200
TZOFFSETTO:+0100
TZNAME:CET
DTSTART:20251026T010000
END:STANDARD
BEGIN:DAYLIGHT
TZOFFSETFROM:+0100
TZOFFSETTO:+0200
TZNAME:CEST
DTSTART:20260329T010000
END:DAYLIGHT
BEGIN:STANDARD
TZOFFSETFROM:+0200
TZOFFSETTO:+0100
TZNAME:CET
DTSTART:20261025T010000
END:STANDARD
BEGIN:DAYLIGHT
TZOFFSETFROM:+0100
TZOFFSETTO:+0200
TZNAME:CEST
DTSTART:20270328T010000
END:DAYLIGHT
BEGIN:STANDARD
TZOFFSETFROM:+0200
TZOFFSETTO:+0100
TZNAME:CET
DTSTART:20271031T010000
END:STANDARD
END:VTIMEZONE
BEGIN:VEVENT
DTSTART;VALUE=DATE:20260413
DTEND;VALUE=DATE:20260427
DTSTAMP:20260421T123434
CREATED:20260205T114117Z
LAST-MODIFIED:20260205T114130Z
UID:4683-1776038400-1777247999@jagdausbildung-hessen.de
SUMMARY:Intensivkurs 2/2026
DESCRIPTION:
URL:https://jagdausbildung-hessen.de/event/intensivkurs-2-2026/
CATEGORIES:Intensivkurs
END:VEVENT
BEGIN:VEVENT
DTSTART;VALUE=DATE:20260417
DTEND;VALUE=DATE:20260419
DTSTAMP:20260421T123434
CREATED:20260205T135551Z
LAST-MODIFIED:20260205T135551Z
UID:4763-1776384000-1776556799@jagdausbildung-hessen.de
SUMMARY:Erste Hilfe für Jäger
DESCRIPTION:
URL:https://jagdausbildung-hessen.de/event/erste-hilfe-fuer-jaeger-2/
CATEGORIES:Erste Hilfe Kurs
END:VEVENT
BEGIN:VEVENT
DTSTART;VALUE=DATE:20260418
DTEND;VALUE=DATE:20260420
DTSTAMP:20260421T123434
CREATED:20260205T124212Z
LAST-MODIFIED:20260205T124254Z
UID:4710-1776470400-1776643199@jagdausbildung-hessen.de
SUMMARY:Wochenendkurs 2/2026
DESCRIPTION:
URL:https://jagdausbildung-hessen.de/event/wochenendkurs-2-2026-6/
CATEGORIES:Wochenendkurs
END:VEVENT
BEGIN:VEVENT
DTSTART;TZID=Europe/Berlin:20260418T090000
DTEND;TZID=Europe/Berlin:20260418T170000
DTSTAMP:20260421T123434
CREATED:20260205T135941Z
LAST-MODIFIED:20260319T134637Z
UID:4771-1776502800-1776531600@jagdausbildung-hessen.de
SUMMARY:Fallenjagdlehrgang
DESCRIPTION:
URL:https://jagdausbildung-hessen.de/event/fallenjagdlehrgang-5/
CATEGORIES:Fangjagdlehrgang
END:VEVENT
END:VCALENDAR