BEGIN:VCALENDAR
VERSION:2.0
PRODID:-//Jagd- und Naturschule Hessen - ECPv6.15.20//NONSGML v1.0//EN
CALSCALE:GREGORIAN
METHOD:PUBLISH
X-WR-CALNAME:Jagd- und Naturschule Hessen
X-ORIGINAL-URL:https://jagdausbildung-hessen.de
X-WR-CALDESC:Veranstaltungen für Jagd- und Naturschule Hessen
REFRESH-INTERVAL;VALUE=DURATION:PT1H
X-Robots-Tag:noindex
X-PUBLISHED-TTL:PT1H
BEGIN:VTIMEZONE
TZID:Europe/Berlin
BEGIN:DAYLIGHT
TZOFFSETFROM:+0100
TZOFFSETTO:+0200
TZNAME:CEST
DTSTART:20240331T010000
END:DAYLIGHT
BEGIN:STANDARD
TZOFFSETFROM:+0200
TZOFFSETTO:+0100
TZNAME:CET
DTSTART:20241027T010000
END:STANDARD
BEGIN:DAYLIGHT
TZOFFSETFROM:+0100
TZOFFSETTO:+0200
TZNAME:CEST
DTSTART:20250330T010000
END:DAYLIGHT
BEGIN:STANDARD
TZOFFSETFROM:+0200
TZOFFSETTO:+0100
TZNAME:CET
DTSTART:20251026T010000
END:STANDARD
BEGIN:DAYLIGHT
TZOFFSETFROM:+0100
TZOFFSETTO:+0200
TZNAME:CEST
DTSTART:20260329T010000
END:DAYLIGHT
BEGIN:STANDARD
TZOFFSETFROM:+0200
TZOFFSETTO:+0100
TZNAME:CET
DTSTART:20261025T010000
END:STANDARD
END:VTIMEZONE
BEGIN:VEVENT
DTSTART;VALUE=DATE:20250107
DTEND;VALUE=DATE:20250108
DTSTAMP:20260422T062625
CREATED:20241107T155153Z
LAST-MODIFIED:20241107T155153Z
UID:4273-1736208000-1736294399@jagdausbildung-hessen.de
SUMMARY:Dienstag Kurs
DESCRIPTION:
URL:https://jagdausbildung-hessen.de/event/dienstag-kurs/
CATEGORIES:Dienstag Kurs
END:VEVENT
BEGIN:VEVENT
DTSTART;VALUE=DATE:20250111
DTEND;VALUE=DATE:20250113
DTSTAMP:20260422T062625
CREATED:20241107T153529Z
LAST-MODIFIED:20241107T153529Z
UID:4230-1736553600-1736726399@jagdausbildung-hessen.de
SUMMARY:Wochenendkurs 1/25
DESCRIPTION:
URL:https://jagdausbildung-hessen.de/event/wochenendkurs-1-25/
CATEGORIES:Wochenendkurs
END:VEVENT
BEGIN:VEVENT
DTSTART;VALUE=DATE:20250114
DTEND;VALUE=DATE:20250115
DTSTAMP:20260422T062625
CREATED:20241107T155353Z
LAST-MODIFIED:20241107T155353Z
UID:4275-1736812800-1736899199@jagdausbildung-hessen.de
SUMMARY:Dienstag Kurs
DESCRIPTION:
URL:https://jagdausbildung-hessen.de/event/dienstag-kurs-2/
CATEGORIES:Dienstag Kurs
END:VEVENT
BEGIN:VEVENT
DTSTART;VALUE=DATE:20250118
DTEND;VALUE=DATE:20250120
DTSTAMP:20260422T062625
CREATED:20241107T153646Z
LAST-MODIFIED:20241107T153646Z
UID:4232-1737158400-1737331199@jagdausbildung-hessen.de
SUMMARY:Wochenendkurs 1/25
DESCRIPTION:
URL:https://jagdausbildung-hessen.de/event/wochenendkurs-1-25-2/
CATEGORIES:Wochenendkurs
END:VEVENT
BEGIN:VEVENT
DTSTART;VALUE=DATE:20250121
DTEND;VALUE=DATE:20250122
DTSTAMP:20260422T062625
CREATED:20241107T155403Z
LAST-MODIFIED:20241107T155403Z
UID:4276-1737417600-1737503999@jagdausbildung-hessen.de
SUMMARY:Dienstag Kurs
DESCRIPTION:
URL:https://jagdausbildung-hessen.de/event/dienstag-kurs-3/
CATEGORIES:Dienstag Kurs
END:VEVENT
BEGIN:VEVENT
DTSTART;VALUE=DATE:20250125
DTEND;VALUE=DATE:20250127
DTSTAMP:20260422T062625
CREATED:20241107T153656Z
LAST-MODIFIED:20241107T153656Z
UID:4233-1737763200-1737935999@jagdausbildung-hessen.de
SUMMARY:Wochenendkurs 1/25
DESCRIPTION:
URL:https://jagdausbildung-hessen.de/event/wochenendkurs-1-25-3/
CATEGORIES:Wochenendkurs
END:VEVENT
BEGIN:VEVENT
DTSTART;VALUE=DATE:20250128
DTEND;VALUE=DATE:20250129
DTSTAMP:20260422T062625
CREATED:20241107T155410Z
LAST-MODIFIED:20241107T155410Z
UID:4277-1738022400-1738108799@jagdausbildung-hessen.de
SUMMARY:Dienstag Kurs
DESCRIPTION:
URL:https://jagdausbildung-hessen.de/event/dienstag-kurs-4/
CATEGORIES:Dienstag Kurs
END:VEVENT
BEGIN:VEVENT
DTSTART;VALUE=DATE:20250129
DTEND;VALUE=DATE:20250130
DTSTAMP:20260422T062625
CREATED:20241107T150504Z
LAST-MODIFIED:20241107T153028Z
UID:4186-1738108800-1738195199@jagdausbildung-hessen.de
SUMMARY:Anmeldeschluss
DESCRIPTION:
URL:https://jagdausbildung-hessen.de/event/anmeldeschluss/
CATEGORIES:Anmeldeschluss
END:VEVENT
END:VCALENDAR