BEGIN:VCALENDAR
VERSION:2.0
PRODID:-//Jagd- und Naturschule Hessen - ECPv6.15.20//NONSGML v1.0//EN
CALSCALE:GREGORIAN
METHOD:PUBLISH
X-WR-CALNAME:Jagd- und Naturschule Hessen
X-ORIGINAL-URL:https://jagdausbildung-hessen.de
X-WR-CALDESC:Veranstaltungen für Jagd- und Naturschule Hessen
REFRESH-INTERVAL;VALUE=DURATION:PT1H
X-Robots-Tag:noindex
X-PUBLISHED-TTL:PT1H
BEGIN:VTIMEZONE
TZID:Europe/Berlin
BEGIN:DAYLIGHT
TZOFFSETFROM:+0100
TZOFFSETTO:+0200
TZNAME:CEST
DTSTART:20240331T010000
END:DAYLIGHT
BEGIN:STANDARD
TZOFFSETFROM:+0200
TZOFFSETTO:+0100
TZNAME:CET
DTSTART:20241027T010000
END:STANDARD
BEGIN:DAYLIGHT
TZOFFSETFROM:+0100
TZOFFSETTO:+0200
TZNAME:CEST
DTSTART:20250330T010000
END:DAYLIGHT
BEGIN:STANDARD
TZOFFSETFROM:+0200
TZOFFSETTO:+0100
TZNAME:CET
DTSTART:20251026T010000
END:STANDARD
BEGIN:DAYLIGHT
TZOFFSETFROM:+0100
TZOFFSETTO:+0200
TZNAME:CEST
DTSTART:20260329T010000
END:DAYLIGHT
BEGIN:STANDARD
TZOFFSETFROM:+0200
TZOFFSETTO:+0100
TZNAME:CET
DTSTART:20261025T010000
END:STANDARD
END:VTIMEZONE
BEGIN:VEVENT
DTSTART;VALUE=DATE:20250201
DTEND;VALUE=DATE:20250203
DTSTAMP:20260422T043525
CREATED:20241107T153710Z
LAST-MODIFIED:20241107T153710Z
UID:4234-1738368000-1738540799@jagdausbildung-hessen.de
SUMMARY:Wochenendkurs 1/25
DESCRIPTION:
URL:https://jagdausbildung-hessen.de/event/wochenendkurs-1-25-4/
CATEGORIES:Wochenendkurs
END:VEVENT
BEGIN:VEVENT
DTSTART;VALUE=DATE:20250201
DTEND;VALUE=DATE:20250217
DTSTAMP:20260422T043525
CREATED:20241107T152145Z
LAST-MODIFIED:20241107T152522Z
UID:4205-1738368000-1739750399@jagdausbildung-hessen.de
SUMMARY:Intensivkurs 1/25
DESCRIPTION:
URL:https://jagdausbildung-hessen.de/event/intensivkurs-1-25/
CATEGORIES:Intensivkurs
END:VEVENT
BEGIN:VEVENT
DTSTART;VALUE=DATE:20250204
DTEND;VALUE=DATE:20250205
DTSTAMP:20260422T043525
CREATED:20241107T155421Z
LAST-MODIFIED:20241107T155421Z
UID:4278-1738627200-1738713599@jagdausbildung-hessen.de
SUMMARY:Dienstag Kurs
DESCRIPTION:
URL:https://jagdausbildung-hessen.de/event/dienstag-kurs-5/
CATEGORIES:Dienstag Kurs
END:VEVENT
BEGIN:VEVENT
DTSTART;VALUE=DATE:20250208
DTEND;VALUE=DATE:20250210
DTSTAMP:20260422T043525
CREATED:20241107T153722Z
LAST-MODIFIED:20241107T153722Z
UID:4235-1738972800-1739145599@jagdausbildung-hessen.de
SUMMARY:Wochenendkurs 1/25
DESCRIPTION:
URL:https://jagdausbildung-hessen.de/event/wochenendkurs-1-25-5/
CATEGORIES:Wochenendkurs
END:VEVENT
BEGIN:VEVENT
DTSTART;VALUE=DATE:20250215
DTEND;VALUE=DATE:20250217
DTSTAMP:20260422T043525
CREATED:20241107T153730Z
LAST-MODIFIED:20241107T153730Z
UID:4236-1739577600-1739750399@jagdausbildung-hessen.de
SUMMARY:Wochenendkurs 1/25
DESCRIPTION:
URL:https://jagdausbildung-hessen.de/event/wochenendkurs-1-25-6/
CATEGORIES:Wochenendkurs
END:VEVENT
BEGIN:VEVENT
DTSTART;VALUE=DATE:20250224
DTEND;VALUE=DATE:20250225
DTSTAMP:20260422T043525
CREATED:20241107T162750Z
LAST-MODIFIED:20241107T162800Z
UID:4305-1740355200-1740441599@jagdausbildung-hessen.de
SUMMARY:Schriftliche Prüfung
DESCRIPTION:
URL:https://jagdausbildung-hessen.de/event/schriftliche-pruefung/
CATEGORIES:Schriftliche Prüfung
END:VEVENT
END:VCALENDAR