BEGIN:VCALENDAR
VERSION:2.0
PRODID:-//Jagd- und Naturschule Hessen - ECPv6.15.20//NONSGML v1.0//EN
CALSCALE:GREGORIAN
METHOD:PUBLISH
X-WR-CALNAME:Jagd- und Naturschule Hessen
X-ORIGINAL-URL:https://jagdausbildung-hessen.de
X-WR-CALDESC:Veranstaltungen für Jagd- und Naturschule Hessen
REFRESH-INTERVAL;VALUE=DURATION:PT1H
X-Robots-Tag:noindex
X-PUBLISHED-TTL:PT1H
BEGIN:VTIMEZONE
TZID:Europe/Berlin
BEGIN:DAYLIGHT
TZOFFSETFROM:+0100
TZOFFSETTO:+0200
TZNAME:CEST
DTSTART:20240331T010000
END:DAYLIGHT
BEGIN:STANDARD
TZOFFSETFROM:+0200
TZOFFSETTO:+0100
TZNAME:CET
DTSTART:20241027T010000
END:STANDARD
BEGIN:DAYLIGHT
TZOFFSETFROM:+0100
TZOFFSETTO:+0200
TZNAME:CEST
DTSTART:20250330T010000
END:DAYLIGHT
BEGIN:STANDARD
TZOFFSETFROM:+0200
TZOFFSETTO:+0100
TZNAME:CET
DTSTART:20251026T010000
END:STANDARD
BEGIN:DAYLIGHT
TZOFFSETFROM:+0100
TZOFFSETTO:+0200
TZNAME:CEST
DTSTART:20260329T010000
END:DAYLIGHT
BEGIN:STANDARD
TZOFFSETFROM:+0200
TZOFFSETTO:+0100
TZNAME:CET
DTSTART:20261025T010000
END:STANDARD
END:VTIMEZONE
BEGIN:VEVENT
DTSTART;VALUE=DATE:20251004
DTEND;VALUE=DATE:20251006
DTSTAMP:20260421T143437
CREATED:20241107T155033Z
LAST-MODIFIED:20241107T155033Z
UID:4264-1759536000-1759708799@jagdausbildung-hessen.de
SUMMARY:Wochenendkurs 5/25
DESCRIPTION:
URL:https://jagdausbildung-hessen.de/event/wochenendkurs-5-25-3/
CATEGORIES:Wochenendkurs
END:VEVENT
BEGIN:VEVENT
DTSTART;VALUE=DATE:20251006
DTEND;VALUE=DATE:20251007
DTSTAMP:20260421T143437
CREATED:20241107T163008Z
LAST-MODIFIED:20241107T163008Z
UID:4309-1759708800-1759795199@jagdausbildung-hessen.de
SUMMARY:Anmeldeschluss
DESCRIPTION:
URL:https://jagdausbildung-hessen.de/event/anmeldeschluss-5/
CATEGORIES:Anmeldeschluss
END:VEVENT
BEGIN:VEVENT
DTSTART;VALUE=DATE:20251007
DTEND;VALUE=DATE:20251008
DTSTAMP:20260421T143437
CREATED:20241107T155708Z
LAST-MODIFIED:20241107T155708Z
UID:4288-1759795200-1759881599@jagdausbildung-hessen.de
SUMMARY:Dienstag Kurs
DESCRIPTION:
URL:https://jagdausbildung-hessen.de/event/dienstag-kurs-15/
CATEGORIES:Dienstag Kurs
END:VEVENT
BEGIN:VEVENT
DTSTART;VALUE=DATE:20251011
DTEND;VALUE=DATE:20251013
DTSTAMP:20260421T143437
CREATED:20241107T155041Z
LAST-MODIFIED:20241107T155041Z
UID:4265-1760140800-1760313599@jagdausbildung-hessen.de
SUMMARY:Wochenendkurs 5/25
DESCRIPTION:
URL:https://jagdausbildung-hessen.de/event/wochenendkurs-5-25-4/
CATEGORIES:Wochenendkurs
END:VEVENT
BEGIN:VEVENT
DTSTART;VALUE=DATE:20251011
DTEND;VALUE=DATE:20251027
DTSTAMP:20260421T143437
CREATED:20241107T152935Z
LAST-MODIFIED:20241107T152935Z
UID:4223-1760140800-1761523199@jagdausbildung-hessen.de
SUMMARY:Intensivkurs 5/25
DESCRIPTION:
URL:https://jagdausbildung-hessen.de/event/intensivkurs-5-25/
CATEGORIES:Intensivkurs
END:VEVENT
BEGIN:VEVENT
DTSTART;VALUE=DATE:20251014
DTEND;VALUE=DATE:20251015
DTSTAMP:20260421T143437
CREATED:20241107T155720Z
LAST-MODIFIED:20241107T155720Z
UID:4289-1760400000-1760486399@jagdausbildung-hessen.de
SUMMARY:Dienstag Kurs
DESCRIPTION:
URL:https://jagdausbildung-hessen.de/event/dienstag-kurs-16/
CATEGORIES:Dienstag Kurs
END:VEVENT
BEGIN:VEVENT
DTSTART;VALUE=DATE:20251018
DTEND;VALUE=DATE:20251020
DTSTAMP:20260421T143437
CREATED:20241107T155049Z
LAST-MODIFIED:20241107T155049Z
UID:4266-1760745600-1760918399@jagdausbildung-hessen.de
SUMMARY:Wochenendkurs 5/25
DESCRIPTION:
URL:https://jagdausbildung-hessen.de/event/wochenendkurs-5-25-5/
CATEGORIES:Wochenendkurs
END:VEVENT
BEGIN:VEVENT
DTSTART;VALUE=DATE:20251025
DTEND;VALUE=DATE:20251027
DTSTAMP:20260421T143437
CREATED:20241107T155057Z
LAST-MODIFIED:20241107T155057Z
UID:4267-1761350400-1761523199@jagdausbildung-hessen.de
SUMMARY:Wochenendkurs 5/25
DESCRIPTION:
URL:https://jagdausbildung-hessen.de/event/wochenendkurs-5-25-6/
CATEGORIES:Wochenendkurs
END:VEVENT
END:VCALENDAR